BEGIN:VCALENDAR
VERSION:2.0
PRODID:-//鹿芝谷－Deer Valley - ECPv6.14.2//NONSGML v1.0//EN
CALSCALE:GREGORIAN
METHOD:PUBLISH
X-WR-CALNAME:鹿芝谷－Deer Valley
X-ORIGINAL-URL:https://deervalley.com.tw
X-WR-CALDESC:Events for 鹿芝谷－Deer Valley
REFRESH-INTERVAL;VALUE=DURATION:PT1H
X-Robots-Tag:noindex
X-PUBLISHED-TTL:PT1H
BEGIN:VTIMEZONE
TZID:Asia/Shanghai
BEGIN:STANDARD
TZOFFSETFROM:+0800
TZOFFSETTO:+0800
TZNAME:CST
DTSTART:20260101T000000
END:STANDARD
END:VTIMEZONE
BEGIN:VEVENT
DTSTART;TZID=Asia/Shanghai:20260203T080000
DTEND;TZID=Asia/Shanghai:20260203T170000
DTSTAMP:20260422T092956
CREATED:20260203T081545Z
LAST-MODIFIED:20260314T062858Z
UID:3242-1770105600-1770138000@deervalley.com.tw
SUMMARY:甲蟲標本DIY（3月-4月場）
DESCRIPTION:  \n想親手製作一隻美麗又酷炫的獨角仙標本嗎？🪲 \n鹿芝谷昆蟲館全新推出「甲蟲標本製作小教室」！由專業老師帶領大小朋友認識台灣獨角仙的生態知識，再一步步親手操作標本製作流程，最後裝進森林系玻璃展示罐中，一起創造自然收藏的第一步！ \n課程設計結合美感與科學，不管是大人或孩子都能從觀察到動手，體驗一場「會留下來」的自然旅程。適合8歲以上親子、情侶、朋友參加，小班制預約開課，名額有限，立即報名！ \n \n  \n\n🧭 活動資訊\n\n活動地點：鹿芝谷主場館2樓（成品領回：鹿芝谷甲蟲館）\n活動時間：3/7 、3/14、 3/21、 3/28、 4/4 、 4/25（週六） 13:30pm\n活動時長：約1小時（含課程與實作）\n適合年齡：建議 8 歲以上（建議親子共學）\n梯次人數：每場次限6組，小班制教學\n活動費用： NT$1000（含入園券2張）\n【早鳥限定】提早報名預約，享官網限定早鳥價 $800！（原價 $1000）\n課程內容：\n\n昆蟲身體結構介紹、認識台灣獨角仙的生態知識\n標本製作教學\n自由創作森林風造景\n標本烘乾時間（非操作流程一環/約2小時）\n完成玻璃展示罐標本並帶回家\n\n\n\n\n✨ 加購與優惠項目\n\n✅ 可加價選擇其他甲蟲品種（現場提供選擇 或 私訊鹿芝谷粉專提前預約）\n✅ 可加價製作第二隻標本（同場可完成兩隻作品於同一展示罐內）\n✅ 可加價升級大玻璃罩+其他大兜蟲種（請私訊鹿芝谷粉專提前預約）\n✅ 加購森林風裝飾素材（如小松果、樹皮、苔蘚等）\n📸 打卡贈禮：現場打卡＋上傳社群，即可免費獲得一份森林系裝飾配件！\n註：裝飾物不可包含石頭類素材，避免損傷玻璃罩內部結構\n\n \n\n📷 活動特色\n\n✔ 專業老師帶領，無需經驗\n✔ 每人一套材料，作品可帶回\n✔ 從生態導覽到標本藝術，一次體驗\n✔ 展示罐質感收藏，兼具教育與裝飾功能\n✔ 小班預約制，學習更有深度\n\n\n🔗 快來報名\n👉 名額有限，點選下方【立即報名】搶先體驗！ \n\n📣 注意事項\n\n請於活動當天提早至鹿芝谷主場館門市櫃台簽到，並領取入園券。\n本活動為預約制，建議事先安排好時間，避免因時間不足中途離席。\n活動中包含使用針具與熱水操作，會有工作人員全程指導並提供安全說明。\n建議穿著方便操作的服裝，避免過於正式。\n因材料準備關係，如需取消請於活動三日前通知。\n活動完成可帶回一組標本作品。\n自帶甲蟲標本，將酌收 NT$50/每隻，處理費。\n活動前 7日（含）以上通知取消：可全額退費。\n活動前 7日內～當天通知取消：無法退費，可保留 一次延期參加的機會，限未來相同或等值活動。\n肖像權使用同意說明：活動過程中將拍攝照片、影音等活動紀錄，作為日後活動及教育推廣使用。凡報名參加者，須同意將影音、影像、著作及肖像權供主辦單位合理使用，同意者方具報名資格。\n 若有團體包班需求（滿6組成團），歡迎私訊我們粉專洽談。
URL:https://deervalley.com.tw/event/specimen_of_beetles260304/
END:VEVENT
BEGIN:VEVENT
DTSTART;TZID=Asia/Shanghai:20260205T080000
DTEND;TZID=Asia/Shanghai:20260205T170000
DTSTAMP:20260422T092956
CREATED:20260205T041247Z
LAST-MODIFIED:20260205T065621Z
UID:3275-1770278400-1770310800@deervalley.com.tw
SUMMARY:夕陽下的茶席（3月-4月限定場）
DESCRIPTION:最靠近日落的茶席，在雲端上的慢時光\n您有多久沒有好好停下來，為自己泡一盞茶？ \n鹿芝谷景觀平台，一個海拔475公尺、擁有 360 度山嵐視野的秘境。我們將日落時分最美好的金色光芒，鎖在這一場專屬您的「夕陽下的茶席」中。 \n讓夕陽為茶席點燈，讓雲霧為茶湯作伴。感受高山茶的溫潤回甘，搭配在地精緻茶點。這不是一場普通的品茗，這是一場與天地對話、與自己和解的慢時光儀式。冬季限定場次，限量席次，給您最私密、最獨特的鹿谷體驗。 \n\n🧭活動資訊\n\n活動名稱｜鹿芝谷・夕陽下的茶席 (雲端上的慢時光)\n活動地點｜鹿芝谷景觀平台\n場次日期｜115年3月14日(六)、3月28日(六) 、4月11日(六)、4月25日(六)，共4場\n活動時間｜4 PM – 5 PM (總長約 60 分鐘)\n報名費用｜NT$ 750 /每席\n費用內含｜鹿芝谷精選凍頂茶 (共2款)、在地特色精緻茶點盤、茶道導引服務、含入園。\n（包含榮獲《ITQI 國際風味評鑑二星》肯定的 凍頂炭焙烏龍茶）\n【早鳥限定】每場次兩週前完成報名，享官網早鳥價 $700！（原價 $750）\n\n\n✨ 活動亮點：夕陽獨家體驗\n🌇 日落金光下的沉浸式茶會\n\n限定景觀： 景觀平台位於西向，能完整捕捉日落光線從橙黃到紫紅的漸變過程。\n五感饗宴： 在山嵐清風中，品醇厚高山茶，感受夕陽的溫度與光影。\n\n🍵 專業茶師帶領的高山茶道\n\n茶葉精選： 嚴選鹿谷/杉林溪在地 高山烏龍茶，由專業茶師 林宜蓁 為您親自沖泡與導覽。\n慢活教學： 學習正確的品茶步驟與茶道禮儀，讓您在忙碌生活後找到身心安定的力量。\n\n🍡 在地風味的精緻茶點\n\n味蕾平衡： 茶點特別設計以「減糖、在地」為原則，搭配台灣特色食材，完美襯托高山茶的喉韻。\n打卡佈置： 茶席佈置精緻優雅，為您的美照提供絕佳背景。\n\n\n\n \n \n擁有超過10年茶點與茶藝教學經驗「台灣茶文化推廣協會高級茶藝師」，獲獎無數，包括「茶與茶菓子對話亮點伴手禮」優等獎、「全國米糧精品伴手禮」銀質獎、「竹筍創意料理至尊金獎」等。現任鳳凰國小茶藝老師、鹿谷農會生活茶會副會長，長期推廣在地茶文化與手作美學。 \n林宜蓁\n講師 \n\n📣注意事項與交通指引\n1. 天候與備案\n\n晴天： 於景觀平台舉辦，享受最美夕陽。\n雨天/濃霧： 活動將移至主場館二樓or多肉體驗區(室內/半室內空間)。\n\n2. 交通建議\n\n自行開車： 導航至「鹿芝谷生態園區」，園區附有免費停車場。\n大眾運輸： 搭乘高鐵至台中站後，轉乘「台灣好行 溪頭線」公車，於 中興蜂場站 下車，即為園區主場館大門。\n\n3. 預約與取消\n\n本活動採完全預約制。\n請於活動當天提早至鹿芝谷主場館門市櫃台簽到，並領取入園券。\n席位將為您保留至活動開始時間，若未抵達將視為自動放棄，恕不退費。\n退改規範：\n\n活動前 7 天（含）以上通知取消：可全額退費。\n活動前 一週內～當天內通知取消：可保留 一次延期參加的機會，限未來相同或等值活動。\n\n\n\n3. 其他注意事項\n\n服裝建議： 山區日夜溫差大，尤其日落後氣溫會下降。建議穿著保暖衣物（如薄外套、披肩）。\n禁止攜帶： 為維護環境與茶席氛圍，請勿攜帶外食、寵物、危險物品。\n景觀平台安全： 景觀平台設有護欄，請注意自身與孩童安全，切勿攀爬或做出危險行為。\n預約座位： 本活動席位將由主辦單位統一安排，以確保每組客人皆能享有最佳日落視野。\n攝影與肖像權： 活動過程中將拍攝照片、影音等活動紀錄，作為日後活動及教育推廣使用。凡報名參加者，須同意將影音、影像、著作及肖像權供主辦單位合理使用，同意者方具報名資格。
URL:https://deervalley.com.tw/event/teasetting202603/
END:VEVENT
BEGIN:VEVENT
DTSTART;TZID=Asia/Shanghai:20260205T080000
DTEND;TZID=Asia/Shanghai:20260205T170000
DTSTAMP:20260422T092956
CREATED:20260205T050142Z
LAST-MODIFIED:20260329T082430Z
UID:3285-1770278400-1770310800@deervalley.com.tw
SUMMARY:茶菓子DIY小教室 X 自助泡茶體驗（3月-4月限定場）
DESCRIPTION:茶菓子DIY小教室 X 自助泡茶體驗\n  \n🍵 鹿芝谷・茶點DIY小教室 ＋ 自助泡茶體驗｜與林宜蓁老師一起，品味一日菓事\n✨你曾經想過，親手為一杯好茶搭配一份剛剛好的點心嗎？ \n這個九月，鹿芝谷邀請您參加「茶點DIY小教室」，在自然靜謐的山林園區中，動手做茶點、靜心泡好茶，享受一段從味覺延伸到心靈的美好時光。 \n\n🍡 活動亮點一次體驗：\n🧁【茶點DIY小教室】由專業老師手把手教學\n由茶食職人 林宜蓁老師 親自授課，傳授三款經典茶點的製作技巧，現場備好所有食材與工具，由老師帶領從塑形、組合到裝飾，完成一道道精緻的茶點成品，即使是第一次做，也能輕鬆體驗茶菓子的美感與樂趣！並提供精緻包裝帶回，分享給親友或作為美好紀念。 \n🍃 【現場自助泡茶體驗】品茗自在・茶香隨行\n活動現場附贈一份自助泡茶體驗，使用來自鹿谷的凍頂炭焙烏龍茶（榮獲 ITQI 國際風味評鑑二星肯定）， \n搭配您親手製作的茶菓子，一起享受最道地、最香濃的台灣茶時光。 \n \n \n  \n\n📍活動資訊\n\n活動日期｜115年4月11日(六)、4月25日(六)，共4場，14:00 \n活動地點｜南投鹿芝谷 主場館二樓\n活動時間｜茶點DIY每場約60分鐘  / 自助泡茶不限時\n參加對象｜3歲以上，親子／好友皆可參與（小童請搭配一為大人陪同）\n報名方式｜線上預約制，名額有限，請提早預約\n活動費用｜$650 / 人（含入園券1張）\n【早鳥限定】每場次兩週前完成報名，享官網早鳥價 $600！（原價 $650） \n  \n🫖【一杯茶，一份點，一段靜心】\n做點心、泡壺茶、與自然共處\n讓這場「一日菓事」成為你秋日最溫暖的記憶 🍂\n\n\n🔗 快來報名\n👉 名額有限，點選下方【立即購票】搶先體驗！ \n\n\n \n擁有超過10年茶點與茶藝教學經驗，獲獎無數，包括「茶與茶菓子對話亮點伴手禮」優等獎、「全國米糧精品伴手禮」銀質獎、「竹筍創意料理至尊金獎」等。現任鳳凰國小茶藝老師、鹿谷農會生活茶會副會長，長期推廣在地茶文化與手作美學。 \n林宜蓁\n講師 \n\n  \n📣 注意事項\n\n本活動每場體驗製作 4顆茶菓子，款式依當日老師準備的材料為主。\n活動長度約 60分鐘，請參加者 提前10分鐘報到，以利準時開始。\n建議年齡為 3歲以上，3–9歲孩童請由一位大人陪同協助操作。\n本活動含 DIY材料包、場地費與泡茶體驗，恕不提供現場加購名額。\n每位參加者將附贈一份自助泡茶體驗（凍頂炭焙烏龍茶）。\n活動過程中主辦單位將進行 活動紀錄拍攝，照片或影片可能用於後續行銷，凡報名參加者，須同意將影音、影像、著作及肖像權供主辦單位合理使用，同意者方具報名資格。\n活動前 7日（含）以上通知取消：可全額退費。\n活動前 7日～3日內通知取消：無法退費，可保留 一次延期參加的機會，限未來相同或等值活動。\n活動前 2日～當天內通知取消：無法退費。\n主辦單位保留最終解釋與活動調整權利。
URL:https://deervalley.com.tw/event/wagashi260304/
END:VEVENT
BEGIN:VEVENT
DTSTART;TZID=Asia/Shanghai:20260205T080000
DTEND;TZID=Asia/Shanghai:20260205T170000
DTSTAMP:20260422T092956
CREATED:20260205T053827Z
LAST-MODIFIED:20260312T024954Z
UID:3295-1770278400-1770310800@deervalley.com.tw
SUMMARY:鹿芝谷｜美語親子小旅行 3/15（日）
DESCRIPTION:動物導覽 × 多肉DIY × 體驗式美語學習\n在森林裡學英文，讓孩子自然開口、快樂吸收！這是一場結合自然觀察、手作體驗與全英語互動的親子活動，邀請 3～12 歲的小朋友與爸媽，一起走進鹿芝谷的動物世界，由專業外籍老師全程用簡單生活美語，帶領孩子在遊戲與實際接觸中，建立語感與表達信心。 \n  \n🌿 活動亮點 Highlights\n \n\nEnglish Animal Tour 美語動物導覽\n跟著老師走訪園區內可愛動物：黑鼻羊、水豚、梅花鹿、羊駝、浣熊等，認識牠們的習性與英文名稱。老師以問答互動方式引導，孩子邊玩邊學，輕鬆自然開口說英文！\nSucculent DIY 多肉植物手作\n親手種下療癒的小植物，學會照顧植物的英文單字與動作說法。從鋪石、整土、放入多肉到佈置小造景，每個步驟都有對應的生活英語，讓孩子在動手的過程中建立單字記憶。\n美國美語老師全程互動\n由經驗外師帶領，語速親切清晰，活動設計針對母語非英語的小朋友，無需英文基礎即可參加，適合自然習得語言的親子共學時光。\n特製學習單與任務卡\n搭配每個孩子一份活動學習單，包含單字、觀察任務與小遊戲，完成後可兌換小禮物，激發參與感與成就感。\n\n🧒 適合對象\n\n年齡：3～12 歲孩童（最少 1 位兒童搭配 1 位大人）\n英文程度：無需英文基礎，活動會使用簡易生活美語\n\n🗓️ 活動資訊\n\n活動日期：2026年3月15日（日）\n活動時間：上午10:00 – 下午1:00（約3.5小時）\n活動地點：鹿芝谷 Deer Valley（南投縣鹿谷鄉中正路二段377號）\n活動費用：NT$1\,400 / 親子一組（1大1小）（含入園、導覽、多肉DIY材料一份、學習單與餐點一大一小）\n多加一位大人＋NT$500 ／ 多加一位孩子＋NT$900\n【早鳥限定】活動兩週前完成報名：NT$1\,200 / 親子一組（1大1小）\n                    多加一位大人＋NT$400 ／ 多加一位孩子＋NT$800\n\n🍱 餐點說明\n每組參加者將提供一份美味定食 \n\n大人餐點選擇：世界風味簡餐定食一份 （報到時選擇）\n兒童餐點選擇：兒童餐一份\n\n🚗 交通建議\n\n開車：園區附有免費停車場，請依現場指示停放。\n大眾運輸：搭乘高鐵至台中站後，轉乘「台灣好行 溪頭線」公車，於 中興蜂場站 下車，即為園區主場館大門。\n\n✅ 報名方式\n👉點擊下方立即報名 \n👉 若有團體參訪或學校洽詢，歡迎私訊我們粉專洽談 \n✅ 提醒事項\n\n活動前 7 天（含）以上通知取消：可全額退費。\n活動前 一週內～當天內通知取消：可保留 一次延期參加的機會，限未來相同或等值活動。\n肖像權使用同意說明：活動過程中將拍攝照片、影音等活動紀錄，作為日後活動及教育推廣使用。凡報名參加者，須同意將影音、影像、著作及肖像權供主辦單位合理使用，同意者方具報名資格。
URL:https://deervalley.com.tw/event/englishtourevents2603/
END:VEVENT
BEGIN:VEVENT
DTSTART;TZID=Asia/Shanghai:20260312T080000
DTEND;TZID=Asia/Shanghai:20260312T170000
DTSTAMP:20260422T092956
CREATED:20260312T025727Z
LAST-MODIFIED:20260312T085705Z
UID:3369-1773302400-1773334800@deervalley.com.tw
SUMMARY:鹿芝谷｜美語親子小旅行 5/10（日）
DESCRIPTION:動物導覽 × 多肉DIY × 體驗式美語學習\n在森林裡學英文，讓孩子自然開口、快樂吸收！這是一場結合自然觀察、手作體驗與全英語互動的親子活動，邀請 3～12 歲的小朋友與爸媽，一起走進鹿芝谷的動物世界，由專業外籍老師全程用簡單生活美語，帶領孩子在遊戲與實際接觸中，建立語感與表達信心。 \n  \n🌿 活動亮點 Highlights\n \n\nEnglish Animal Tour 美語動物導覽\n跟著老師走訪園區內可愛動物：黑鼻羊、水豚、梅花鹿、羊駝、浣熊等，認識牠們的習性與英文名稱。老師以問答互動方式引導，孩子邊玩邊學，輕鬆自然開口說英文！\nSucculent DIY 多肉植物手作\n親手種下療癒的小植物，學會照顧植物的英文單字與動作說法。從鋪石、整土、放入多肉到佈置小造景，每個步驟都有對應的生活英語，讓孩子在動手的過程中建立單字記憶。\n美國美語老師全程互動\n由經驗外師帶領，語速親切清晰，活動設計針對母語非英語的小朋友，無需英文基礎即可參加，適合自然習得語言的親子共學時光。\n特製學習單與任務卡\n搭配每個孩子一份活動學習單，包含單字、觀察任務與小遊戲，完成後可兌換小禮物，激發參與感與成就感。\n\n🧒 適合對象\n\n年齡：3～12 歲孩童（最少 1 位兒童搭配 1 位大人）\n英文程度：無需英文基礎，活動會使用簡易生活美語\n\n🗓️ 活動資訊\n\n活動日期：2026年5月10日（日）\n活動時間：上午10:00 – 下午1:00（約3.5小時）\n活動地點：鹿芝谷 Deer Valley（南投縣鹿谷鄉中正路二段377號）\n活動費用：NT$1\,400 / 親子一組（1大1小）（含入園、導覽、多肉DIY材料一份、學習單/完成小禮物與餐點一大一小）\n多加一位大人＋NT$500 ／ 多加一位孩子＋NT$900\n【早鳥限定】4/26前完成報名：NT$1\,200 / 親子一組（1大1小）\n                    多加一位大人＋NT$400 ／ 多加一位孩子＋NT$800\n\n🍱 餐點說明\n每組參加者將提供一份美味定食 \n\n大人餐點選擇：世界風味簡餐定食一份 （報到時選擇）\n兒童餐點選擇：兒童餐一份\n\n🚗 交通建議\n\n開車：園區附有免費停車場，請依現場指示停放。\n大眾運輸：搭乘高鐵至台中站後，轉乘「台灣好行 溪頭線」公車，於 中興蜂場站 下車，即為園區主場館大門。\n\n✅ 報名方式\n👉點擊下方立即報名 \n👉 若有團體參訪或學校洽詢，歡迎私訊我們粉專洽談 \n✅ 提醒事項\n\n成團說明：每場次若未滿10位小孩，將延期辦理。\n活動前 7 天（含）以上通知取消：可全額退費。\n活動前 一週內～當天內通知取消：可保留 一次延期參加的機會，限未來相同或等值活動。\n肖像權使用同意說明：活動過程中將拍攝照片、影音等活動紀錄，作為日後活動及教育推廣使用。凡報名參加者，須同意將影音、影像、著作及肖像權供主辦單位合理使用，同意者方具報名資格。
URL:https://deervalley.com.tw/event/englishtourevents2604/
END:VEVENT
BEGIN:VEVENT
DTSTART;TZID=Asia/Shanghai:20260411T080000
DTEND;TZID=Asia/Shanghai:20260411T170000
DTSTAMP:20260422T092956
CREATED:20260411T034351Z
LAST-MODIFIED:20260414T062109Z
UID:3518-1775894400-1775926800@deervalley.com.tw
SUMMARY:甲蟲標本DIY（5月-6月場）
DESCRIPTION:  \n想親手製作一隻美麗又酷炫的獨角仙標本嗎？🪲 \n鹿芝谷昆蟲館全新推出「甲蟲標本製作小教室」！由專業老師帶領大小朋友認識台灣獨角仙的生態知識，再一步步親手操作標本製作流程，最後裝進森林系玻璃展示罐中，一起創造自然收藏的第一步！ \n課程設計結合美感與科學，不管是大人或孩子都能從觀察到動手，體驗一場「會留下來」的自然旅程。適合8歲以上親子、情侶、朋友參加，小班制預約開課，名額有限，立即報名！ \n \n  \n\n🧭 活動資訊\n\n活動地點：鹿芝谷主場館2樓（成品領回：鹿芝谷甲蟲館）\n活動時間：5/2 、5/9、 5/16（週六） 13:30pm\n活動時長：約1小時（含課程與實作）\n適合年齡：建議 8 歲以上（建議親子共學）\n梯次人數：每場次限6組，小班制教學\n活動費用： NT$1000（含入園券2張）\n【早鳥限定】提早報名預約，享官網限定早鳥價 $800！（原價 $1000）\n課程內容：\n\n昆蟲身體結構介紹、認識台灣獨角仙的生態知識\n標本製作教學\n自由創作森林風造景\n標本烘乾時間（非操作流程一環/約2小時）\n完成玻璃展示罐標本並帶回家\n\n\n\n\n✨ 加購與優惠項目\n\n✅ 可加價選擇其他甲蟲品種（現場提供選擇 或 私訊鹿芝谷粉專提前預約）\n✅ 可加價製作第二隻標本（同場可完成兩隻作品於同一展示罐內）\n✅ 可加價升級大玻璃罩+其他大兜蟲種（請私訊鹿芝谷粉專提前預約）\n✅ 加購森林風裝飾素材（如小松果、樹皮、苔蘚等）\n📸 打卡贈禮：現場打卡＋上傳社群，即可免費獲得一份森林系裝飾配件！\n註：裝飾物不可包含石頭類素材，避免損傷玻璃罩內部結構\n\n \n\n📷 活動特色\n\n✔ 專業老師帶領，無需經驗\n✔ 每人一套材料，作品可帶回\n✔ 從生態導覽到標本藝術，一次體驗\n✔ 展示罐質感收藏，兼具教育與裝飾功能\n✔ 小班預約制，學習更有深度\n\n\n🔗 快來報名\n👉 名額有限，點選下方【立即報名】搶先體驗！ \n\n📣 注意事項\n\n請於活動當天提早至鹿芝谷主場館門市櫃台簽到，並領取入園券。\n本活動為預約制，建議事先安排好時間，避免因時間不足中途離席。\n活動中包含使用針具與熱水操作，會有工作人員全程指導並提供安全說明。\n建議穿著方便操作的服裝，避免過於正式。\n因材料準備關係，如需取消請於活動三日前通知。\n活動完成可帶回一組標本作品。\n自帶甲蟲標本，將酌收 NT$50/每隻，處理費。\n活動前 7日（含）以上通知取消：可全額退費。\n活動前 7日內～當天通知取消：無法退費，可保留 一次延期參加的機會，限未來相同或等值活動。\n肖像權使用同意說明：活動過程中將拍攝照片、影音等活動紀錄，作為日後活動及教育推廣使用。凡報名參加者，須同意將影音、影像、著作及肖像權供主辦單位合理使用，同意者方具報名資格。\n 若有團體包班需求（滿6組成團），歡迎私訊我們粉專洽談。
URL:https://deervalley.com.tw/event/specimen_of_beetles260506/
END:VEVENT
BEGIN:VEVENT
DTSTART;TZID=Asia/Shanghai:20260411T080000
DTEND;TZID=Asia/Shanghai:20260411T170000
DTSTAMP:20260422T092956
CREATED:20260416T045200Z
LAST-MODIFIED:20260416T050651Z
UID:3538-1775894400-1775926800@deervalley.com.tw
SUMMARY:茶菓子DIY小教室 X 自助泡茶體驗（5月-6月限定場）
DESCRIPTION:茶菓子DIY小教室 X 自助泡茶體驗\n  \n🍵 鹿芝谷・茶點DIY小教室 ＋ 自助泡茶體驗｜與林宜蓁老師一起，品味一日菓事\n✨你曾經想過，親手為一杯好茶搭配一份剛剛好的點心嗎？ \n這個九月，鹿芝谷邀請您參加「茶點DIY小教室」，在自然靜謐的山林園區中，動手做茶點、靜心泡好茶，享受一段從味覺延伸到心靈的美好時光。 \n\n🍡 活動亮點一次體驗：\n🧁【茶點DIY小教室】由專業老師手把手教學\n由茶食職人 林宜蓁老師 親自授課，傳授三款經典茶點的製作技巧，現場備好所有食材與工具，由老師帶領從塑形、組合到裝飾，完成一道道精緻的茶點成品，即使是第一次做，也能輕鬆體驗茶菓子的美感與樂趣！並提供精緻包裝帶回，分享給親友或作為美好紀念。 \n🍃 【現場自助泡茶體驗】品茗自在・茶香隨行\n活動現場附贈一份自助泡茶體驗，使用來自鹿谷的凍頂炭焙烏龍茶（榮獲 ITQI 國際風味評鑑二星肯定）， \n搭配您親手製作的茶菓子，一起享受最道地、最香濃的台灣茶時光。 \n \n \n  \n\n📍活動資訊\n\n活動日期｜5/2、5/9、5/23(六)，共3場，14:00 \n活動地點｜南投鹿芝谷 主場館二樓\n活動時間｜茶點DIY每場約60分鐘  / 自助泡茶不限時\n參加對象｜3歲以上，親子／好友皆可參與（小童請搭配一為大人陪同）\n報名方式｜線上預約制，名額有限，請提早預約\n活動費用｜$650 / 人（含入園券1張）\n【早鳥限定】每場次兩週前完成報名，享官網早鳥價 $600！（原價 $650） \n  \n🫖【一杯茶，一份點，一段靜心】\n做點心、泡壺茶、與自然共處\n讓這場「一日菓事」成為你秋日最溫暖的記憶 🍂\n\n\n🔗 快來報名\n👉 名額有限，點選下方【立即購票】搶先體驗！ \n\n\n \n擁有超過10年茶點與茶藝教學經驗，獲獎無數，包括「茶與茶菓子對話亮點伴手禮」優等獎、「全國米糧精品伴手禮」銀質獎、「竹筍創意料理至尊金獎」等。現任鳳凰國小茶藝老師、鹿谷農會生活茶會副會長，長期推廣在地茶文化與手作美學。 \n林宜蓁\n講師 \n\n  \n📣 注意事項\n\n本活動每場體驗製作 4顆茶菓子，款式依當日老師準備的材料為主。\n活動長度約 60分鐘，請參加者 提前10分鐘報到，以利準時開始。\n建議年齡為 3歲以上，3–9歲孩童請由一位大人陪同協助操作。\n本活動含 DIY材料包、場地費與泡茶體驗，恕不提供現場加購名額。\n每位參加者將附贈一份自助泡茶體驗（凍頂炭焙烏龍茶）。\n活動過程中主辦單位將進行 活動紀錄拍攝，照片或影片可能用於後續行銷，凡報名參加者，須同意將影音、影像、著作及肖像權供主辦單位合理使用，同意者方具報名資格。\n活動前 7日（含）以上通知取消：可全額退費。\n活動前 7日～3日內通知取消：無法退費，可保留 一次延期參加的機會，限未來相同或等值活動。\n活動前 2日～當天內通知取消：無法退費。\n主辦單位保留最終解釋與活動調整權利。
URL:https://deervalley.com.tw/event/wagashi260506/
END:VEVENT
END:VCALENDAR