BEGIN:VCALENDAR
VERSION:2.0
PRODID:-//鹿芝谷－Deer Valley - ECPv6.14.2//NONSGML v1.0//EN
CALSCALE:GREGORIAN
METHOD:PUBLISH
X-WR-CALNAME:鹿芝谷－Deer Valley
X-ORIGINAL-URL:https://deervalley.com.tw
X-WR-CALDESC:Events for 鹿芝谷－Deer Valley
REFRESH-INTERVAL;VALUE=DURATION:PT1H
X-Robots-Tag:noindex
X-PUBLISHED-TTL:PT1H
BEGIN:VTIMEZONE
TZID:Asia/Shanghai
BEGIN:STANDARD
TZOFFSETFROM:+0800
TZOFFSETTO:+0800
TZNAME:CST
DTSTART:20250101T000000
END:STANDARD
END:VTIMEZONE
BEGIN:VEVENT
DTSTART;TZID=Asia/Shanghai:20251109T080000
DTEND;TZID=Asia/Shanghai:20251109T170000
DTSTAMP:20260422T064843
CREATED:20251109T060903Z
LAST-MODIFIED:20251204T091620Z
UID:2827-1762675200-1762707600@deervalley.com.tw
SUMMARY:鹿芝谷｜森林中的生態小教室｜蛇行高手 12/27（六）
DESCRIPTION:鹿芝谷 × 查理老師\n生態課程《蛇行高手》\n滑行無聲的森林獵手，現身鹿芝谷！ \n牠們是草叢中的忍者，是大自然的偽裝高手與平衡守護者。\n這次，跟著 生態達人查理老師 一起揭開蛇類的神祕世界！ \n🌿 從一條蛇，開始認識自然的奧祕。 \n勇敢探索、細心觀察，\n成為真正的——蛇行高手 \n  \n🌿 活動亮點 Highlights\n\n近距離觀察真實蛇類：由查理老師帶領，安全環境中與蛇面對面。\n探索蛇的奧祕構造：從牙齒、鱗片到感官，了解蛇如何生存與捕獵。\n人氣寵物蛇登場：球蟒、玉米蛇、王蛇、豬鼻蛇可愛亮相，認識牠們的個性與習性。\n台灣六大毒蛇辨識術：學會觀察外觀差異與安全距離。\n生活應用教學：遇到蛇怎麼辦？查理老師現場示範用掃把與畚箕安全處理！\n\n🧒 適合對象\n\n年齡：學齡前～國小皆適合（每組親子：1大1小）\n喜愛動物、生態探索、自然觀察的大小朋友 / 想體驗近距離與蛇互動的勇敢探險家\n\n🗓️ 活動資訊\n\n活動日期：2024年12月27日（六）\n活動時間：下午2:00 – 3:00（約1小時）\n活動地點：鹿芝谷 Deer Valley（南投縣鹿谷鄉中正路二段377號）\n活動費用：NT$650 / 親子一組（1大1小）（含2張入園券）\n第二位大人＋NT$300（含1張入園券）\n【早鳥限定】12/6前完成報名，享官網早鳥價 $600！（原價 $650）\n\n🚗 交通建議\n\n開車：園區附有免費停車場，請依現場指示停放。\n大眾運輸：搭乘高鐵至台中站後，轉乘「台灣好行 溪頭線」公車，於 中興蜂場站 下車，即為園區主場館大門。\n\n✅ 報名方式\n👉點擊下方立即報名 \n👉 若有團體參訪或學校洽詢，歡迎私訊我們粉專洽談 \n✅ 提醒事項\n\n活動採 預約制，名額有限，請盡早報名。\n活動中請遵守現場安全規範，不可擅自觸摸動物。\n活動前 7 天（含）以上通知取消：可全額退費。\n活動前 3 天（含）以上通知取消：可退費 50%。\n活動前 3天 ～當天內通知取消：可保留 一次延期參加的機會，限未來相同或等值活動，不退費。\n肖像權使用同意說明：活動過程中將拍攝照片、影音等活動紀錄，作為日後活動及教育推廣使用。凡報名參加者，須同意將影音、影像、著作及肖像權供主辦單位合理使用，同意者方具報名資格。\n若遇颱風或不可抗力因素，主辦單位保留延期或取消之權利。\n\n\n#鹿芝谷 #查理老師 #親子生態課 #自然探索 #生態教育 #動物觀察 #爬蟲課程
URL:https://deervalley.com.tw/event/charlie2512/
END:VEVENT
BEGIN:VEVENT
DTSTART;TZID=Asia/Shanghai:20251108T080000
DTEND;TZID=Asia/Shanghai:20251122T170000
DTSTAMP:20260422T064843
CREATED:20251019T040006Z
LAST-MODIFIED:20251116T035915Z
UID:2711-1762588800-1763830800@deervalley.com.tw
SUMMARY:茶菓子DIY小教室 X 自助泡茶體驗 11/8（六）、11/22（六）
DESCRIPTION:茶菓子DIY小教室 X 自助泡茶體驗\n11/8（六）・11/22（六）｜下午2:00｜限量場次！ \n  \n🍵 鹿芝谷・茶點DIY小教室 ＋ 自助泡茶體驗｜與林宜蓁老師一起，品味一日菓事\n✨你曾經想過，親手為一杯好茶搭配一份剛剛好的點心嗎？ \n這個九月，鹿芝谷邀請您參加「茶點DIY小教室」，在自然靜謐的山林園區中，動手做茶點、靜心泡好茶，享受一段從味覺延伸到心靈的美好時光。 \n\n🍡 活動亮點一次體驗：\n🧁【茶點DIY小教室】由專業老師手把手教學\n由茶食職人 林宜蓁老師 親自授課，傳授三款經典茶點的製作技巧，現場備好所有食材與工具，由老師帶領從塑形、組合到裝飾，完成一道道精緻的茶點成品，即使是第一次做，也能輕鬆體驗茶菓子的美感與樂趣！並提供精緻包裝帶回，分享給親友或作為美好紀念。 \n🍃 【現場自助泡茶體驗】品茗自在・茶香隨行\n活動現場附贈一份自助泡茶體驗，使用來自鹿谷的凍頂炭焙烏龍茶（榮獲 ITQI 國際風味評鑑二星肯定）， \n搭配您親手製作的茶菓子，一起享受最道地、最香濃的台灣茶時光。 \n \n \n  \n\n📍活動資訊\n\n活動日期｜11月8日（六）14:00 ／11月22日（六） 14:00\n活動地點｜南投鹿芝谷 主場館二樓\n活動時間｜茶點DIY每場約60分鐘  / 自助泡茶不限時\n參加對象｜3歲以上，親子／好友皆可參與（小童請搭配一為大人陪同）\n報名方式｜線上預約制，名額有限，請提早預約\n活動費用｜$650 / 人（含入園）\n【早鳥限定】每場次兩週前完成報名，享官網早鳥價 $600！（原價 $650） \n  \n🫖【一杯茶，一份點，一段靜心】\n做點心、泡壺茶、與自然共處\n讓這場「一日菓事」成為你秋日最溫暖的記憶 🍂\n\n\n🔗 快來報名\n👉 名額有限，點選下方【立即購票】搶先體驗！ \n\n\n \n擁有超過10年茶點與茶藝教學經驗，獲獎無數，包括「茶與茶菓子對話亮點伴手禮」優等獎、「全國米糧精品伴手禮」銀質獎、「竹筍創意料理至尊金獎」等。現任鳳凰國小茶藝老師、鹿谷農會生活茶會副會長，長期推廣在地茶文化與手作美學。 \n林宜蓁\n講師 \n\n  \n📣 注意事項\n\n本活動每場體驗製作 4顆茶菓子，款式依當日老師準備的材料為主。\n活動長度約 60分鐘，請參加者 提前10分鐘報到，以利準時開始。\n建議年齡為 3歲以上，3–9歲孩童請由一位大人陪同協助操作。\n本活動含 DIY材料包、場地費與泡茶體驗，恕不提供現場加購名額。\n每位參加者將附贈一份自助泡茶體驗（凍頂炭焙烏龍茶）。\n活動過程中主辦單位將進行 活動紀錄拍攝，照片或影片可能用於後續行銷，凡報名參加者，須同意將影音、影像、著作及肖像權供主辦單位合理使用，同意者方具報名資格。\n活動前 7日（含）以上通知取消：可全額退費。\n活動前 7日～3日內通知取消：無法退費，可保留 一次延期參加的機會，限未來相同或等值活動。\n活動前 2日～當天內通知取消：無法退費。\n主辦單位保留最終解釋與活動調整權利。
URL:https://deervalley.com.tw/event/wagashi2511/
END:VEVENT
BEGIN:VEVENT
DTSTART;TZID=Asia/Shanghai:20251101T080000
DTEND;TZID=Asia/Shanghai:20251129T170000
DTSTAMP:20260422T064843
CREATED:20251019T051339Z
LAST-MODIFIED:20251102T033758Z
UID:2719-1761984000-1764435600@deervalley.com.tw
SUMMARY:甲蟲標本DIY（11月場）
DESCRIPTION:想親手製作一隻美麗又酷炫的獨角仙標本嗎？🪲 \n鹿芝谷昆蟲館全新推出「甲蟲標本製作小教室」！由專業老師帶領大小朋友認識台灣獨角仙的生態知識，再一步步親手操作標本製作流程，最後裝進森林系玻璃展示罐中，一起創造自然收藏的第一步！ \n課程設計結合美感與科學，不管是大人或孩子都能從觀察到動手，體驗一場「會留下來」的自然旅程。適合8歲以上親子、情侶、朋友參加，小班制預約開課，名額有限，立即報名！ \n \n \n🧭 活動資訊\n\n活動地點：鹿芝谷主場館2樓（成品領回：鹿芝谷昆蟲館）\n活動時間：114年11月1日、8日、15日、22日、29日  13:30\n活動時長：約1小時（含課程與實作）\n適合年齡：建議 8 歲以上（建議親子共學）\n梯次人數：每場次限6組，小班制教學\n活動費用： NT$1000（含入園券2張）\n【早鳥限定】提早報名預約，享官網限定早鳥價 $800！（原價 $1000）\n課程內容：\n\n昆蟲身體結構介紹、認識台灣獨角仙的生態知識\n標本製作教學\n自由創作森林風造景\n標本烘乾時間（非操作流程一環/約2小時）\n完成玻璃展示罐標本並帶回家\n\n\n\n \n📣 注意事項\n\n本活動為預約制，建議事先安排好時間，避免因時間不足中途離席。\n活動中包含使用針具與熱水操作，會有工作人員全程指導並提供安全說明。\n建議穿著方便操作的服裝，避免過於正式。\n因材料準備關係，如需取消請於活動三日前通知。\n活動完成可帶回一組標本作品。\n自帶甲蟲標本，將酌收 NT$50/每隻，處理費。\n活動前 7日（含）以上通知取消：可全額退費。\n活動前 7日內～當天通知取消：無法退費，可保留 一次延期參加的機會，限未來相同或等值活動。\n肖像權使用同意說明：活動過程中將拍攝照片、影音等活動紀錄，作為日後活動及教育推廣使用。凡報名參加者，須同意將影音、影像、著作及肖像權供主辦單位合理使用，同意者方具報名資格。\n 若有團體包班需求（滿6組成團），歡迎私訊我們粉專洽談。\n\n\n✨ 加購與優惠項目\n\n✅ 可加價選擇其他甲蟲品種（現場提供選擇）\n✅ 加價製作第二隻標本（同場可完成兩隻作品於同一展示罐內）\n✅ 加購森林風裝飾素材（如小松果、樹皮、苔蘚等）\n📸 打卡贈禮：現場打卡＋上傳社群，即可免費獲得一份森林系裝飾配件！\n\n🔸 註：裝飾物不可包含石頭類素材，避免損傷玻璃罩內部結構 \n \n\n📷 活動特色\n\n✔ 專業老師帶領，無需經驗\n✔ 每人一套材料，作品可帶回\n✔ 從生態導覽到標本藝術，一次體驗\n✔ 展示罐質感收藏，兼具教育與裝飾功能\n✔ 小班預約制，學習更有深度\n\n\n🔗 快來報名\n👉 名額有限，點選下方【立即報名】搶先體驗！
URL:https://deervalley.com.tw/event/specimen_of_beetles2511/
END:VEVENT
BEGIN:VEVENT
DTSTART;TZID=Asia/Shanghai:20251026T100000
DTEND;TZID=Asia/Shanghai:20251026T133000
DTSTAMP:20260422T064843
CREATED:20250802T054903Z
LAST-MODIFIED:20251102T031610Z
UID:2358-1761472800-1761485400@deervalley.com.tw
SUMMARY:鹿芝谷｜美語親子小旅行 10/26（日）
DESCRIPTION:動物導覽 × 多肉DIY × 體驗式美語學習\n在森林裡學英文，讓孩子自然開口、快樂吸收！這是一場結合自然觀察、手作體驗與全英語互動的親子活動，邀請 3～12 歲的小朋友與爸媽，一起走進鹿芝谷的動物世界，由專業外籍老師全程用簡單生活美語，帶領孩子在遊戲與實際接觸中，建立語感與表達信心。 \n  \n🌿 活動亮點 Highlights\n \n\nEnglish Animal Tour 美語動物導覽\n跟著老師走訪園區內可愛動物：黑鼻羊、水豚、梅花鹿、羊駝、浣熊等，認識牠們的習性與英文名稱。老師以問答互動方式引導，孩子邊玩邊學，輕鬆自然開口說英文！\nSucculent DIY 多肉植物手作\n親手種下療癒的小植物，學會照顧植物的英文單字與動作說法。從鋪石、整土、放入多肉到佈置小造景，每個步驟都有對應的生活英語，讓孩子在動手的過程中建立單字記憶。\n美國美語老師全程互動\n由經驗外師帶領，語速親切清晰，活動設計針對母語非英語的小朋友，無需英文基礎即可參加，適合自然習得語言的親子共學時光。\n特製學習單與任務卡\n搭配每個孩子一份活動學習單，包含單字、觀察任務與小遊戲，完成後可兌換小禮物，激發參與感與成就感。\n\n🧒 適合對象\n\n年齡：4～12 歲孩童（最少 1 位兒童搭配 1 位大人）\n英文程度：無需英文基礎，活動會使用簡易生活美語\n\n🗓️ 活動資訊\n\n活動日期：2024年10月26日（日）\n活動時間：上午10:00 – 下午1:30（約3.5小時）\n活動地點：鹿芝谷 Deer Valley（南投縣鹿谷鄉中正路二段377號）\n活動費用：NT$1\,200 / 親子一組（1大1小）（含入園、導覽、多肉DIY材料一份、學習單與餐點一大一小）\n多加一位大人＋NT$400 ／ 多加一位孩子＋NT$800\n\n🍱 餐點說明\n每組參加者將提供一份美味定食 \n\n大人餐點選擇：世界風味簡餐定食一份 （報到時選擇）\n兒童餐點選擇：兒童餐一份\n\n🚗 交通建議\n搭乘高鐵至台中站後，轉乘「台灣好行 溪頭線」公車，於 中興蜂場站 下車，即為園區主場館大門。\n👉 建議提前查好班次，並攜帶防蚊、防曬用品。 \n✅ 報名方式\n👉點擊下方立即報名 \n👉 若有團體參訪或學校洽詢，歡迎私訊我們粉專洽談 \n✅ 提醒事項\n肖像權使用同意說明：活動過程中將拍攝照片、影音等活動紀錄，作為日後活動及教育推廣使用。凡報名參加者，須同意將影音、影像、著作及肖像權供主辦單位合理使用，同意者方具報名資格。
URL:https://deervalley.com.tw/event/english_tour_events/
LOCATION:鹿芝谷生態景觀園區\, 中正路二段377號\, 南投縣\, 558\, Taiwan
END:VEVENT
BEGIN:VEVENT
DTSTART;TZID=Asia/Shanghai:20251024T140000
DTEND;TZID=Asia/Shanghai:20251025T153000
DTSTAMP:20260422T064843
CREATED:20250920T031603Z
LAST-MODIFIED:20251013T101454Z
UID:2591-1761314400-1761406200@deervalley.com.tw
SUMMARY:🎃 鹿芝谷萬聖限定｜怪奇出沒！萬聖節茶菓子DIY小教室 X 自助泡茶體驗
DESCRIPTION:🎃 鹿芝谷萬聖限定｜怪奇出沒！萬聖節茶菓子DIY體驗\n👻 10/24（五）・10/25（六）｜下午2:00｜限量場次！ \n今年萬聖節，來點可愛又驚喜的甜！\n鹿芝谷推出限定場「萬聖節主題茶菓子DIY體驗」，由茶食職人林宜蓁老師帶領，\n親手製作超萌又搞怪的「萬聖版茶菓子」！🎃👀👻\n超吸睛的萬聖茶點——南瓜、幽靈、三眼怪、眼球…等等造型一次大集合！ \n\n🍡 活動亮點一次體驗：\n🧁 課程內容 \n\n每場體驗製作3款萬聖節造型茶菓子（依老師當日提供材料為主，恕無法自選）\n專業老師手把手指導，免備材料，課程內容適合初學者與親子共學\n完成作品可包裝帶回，作為萬聖節禮物或下午茶小點\n\n\n\n🍃【現場自助泡茶體驗】品茗自在・茶香隨行\n活動現場將附贈一份自助泡茶體驗，\n使用來自鹿谷的凍頂炭焙烏龍茶——榮獲 ITQI 國際風味評鑑二星肯定。\n沖泡一壺好茶，搭配您親手製作的可愛茶菓子，\n在山林的午後時光裡，享受一段專屬於味蕾與心靈的茶香饗宴 🍵 \n \n  \n\n📍活動資訊\n\n活動日期：10月24日（五）14:00 ／10月25日（六） 14:00\n活動地點：南投鹿芝谷 主場館二樓\n活動時間｜茶點DIY每場約60分鐘 ，自助泡茶不限時間\n參加對象｜3歲以上，親子／好友皆可參與（小童請搭配一為大人陪同）\n報名方式｜線上預約制，名額有限，請提早預約\n【早鳥限定】10/10前完成報名，享官網早鳥價 $600！（原價 $650，限量名額，額滿即恢復原價） \n👉 請盡早報名，確保你和小怪獸的名額！ \n茶菓子作品可包裝帶回／現場拍照超可愛！\n\n\n🔗 快來報名\n👉 名額有限，點選下方【立即購票】搶先體驗！ \n\n\n \n擁有超過10年茶點與茶藝教學經驗，獲獎無數，包括「茶與茶菓子對話亮點伴手禮」優等獎、「全國米糧精品伴手禮」銀質獎、「竹筍創意料理至尊金獎」等。現任鳳凰國小茶藝老師、鹿谷農會生活茶會副會長，長期推廣在地茶文化與手作美學。 \n林宜蓁\n講師 \n\n  \n📣 注意事項\n\n本活動每場體驗製作 3款萬聖節主題茶菓子，款式依當日老師準備的材料為主，恕不開放自選。\n活動長度約 60分鐘，請參加者 提前10分鐘報到，以利準時開始。\n建議年齡為 3歲以上，3–9歲孩童請由一位大人陪同協助操作。\n本活動含 DIY材料包、場地費與泡茶體驗，恕不提供現場加購名額。\n每位參加者將附贈一份自助泡茶體驗（凍頂炭焙烏龍茶）。\n活動過程中主辦單位將進行 活動紀錄拍攝，照片或影片可能用於後續行銷，凡報名參加者，須同意將影音、影像、著作及肖像權供主辦單位合理使用，同意者方具報名資格。\n主辦單位保留最終解釋與活動調整權利。\n\n \n#鹿芝谷 #萬聖節活動 #茶點DIY #怪奇茶菓子 #親子手作 #HalloweenTreats #可愛萬聖節 #南投景點 #WagashiDIY
URL:https://deervalley.com.tw/event/wagashi2510/
END:VEVENT
BEGIN:VEVENT
DTSTART;TZID=Asia/Shanghai:20251004T080000
DTEND;TZID=Asia/Shanghai:20251025T170000
DTSTAMP:20260422T064843
CREATED:20250921T034546Z
LAST-MODIFIED:20251006T063753Z
UID:2586-1759564800-1761411600@deervalley.com.tw
SUMMARY:甲蟲標本DIY（10月場）
DESCRIPTION:想親手製作一隻美麗又酷炫的獨角仙標本嗎？🪲 \n鹿芝谷昆蟲館全新推出「甲蟲標本製作小教室」！由專業老師帶領大小朋友認識台灣獨角仙的生態知識，再一步步親手操作標本製作流程，最後裝進森林系玻璃展示罐中，一起創造自然收藏的第一步！ \n課程設計結合美感與科學，不管是大人或孩子都能從觀察到動手，體驗一場「會留下來」的自然旅程。適合8歲以上親子、情侶、朋友參加，小班制預約開課，名額有限，立即報名！ \n \n \n🧭 活動資訊\n\n活動地點：鹿芝谷主場館2樓（成品領回：鹿芝谷昆蟲館）\n活動時間：114年10月4日、11日、18日、25日  13:30\n活動時長：約1~1.5小時（含課程與實作）\n適合年齡：建議 8 歲以上（建議親子共學）\n梯次人數：每場次限6組，小班制教學\n活動費用：10/10前，官網限定早烏價 NT$800\n課程內容：\n\n昆蟲身體結構介紹、認識台灣獨角仙的生態知識\n標本製作教學\n自由創作森林風造景\n標本烘乾時間（非操作流程一環/約2小時）\n完成玻璃展示罐標本並帶回家\n\n\n\n \n📣 注意事項\n\n本活動為預約制，建議事先安排好時間，避免因時間不足中途離席。\n活動中包含使用針具與熱水操作，會有工作人員全程指導並提供安全說明。\n建議穿著方便操作的服裝，避免過於正式。\n因材料準備關係，如需取消請於活動三日前通知。\n活動完成可帶回一組標本作品。\n肖像權使用同意說明：活動過程中將拍攝照片、影音等活動紀錄，作為日後活動及教育推廣使用。凡報名參加者，須同意將影音、影像、著作及肖像權供主辦單位合理使用，同意者方具報名資格。\n 若有團體包班需求（滿6組成團），歡迎私訊我們粉專洽談。\n\n\n✨ 加購與優惠項目\n\n✅ 可加價選擇其他甲蟲品種（現場提供選擇）\n✅ 加價製作第二隻標本（同場可完成兩隻作品於同一展示罐內）\n✅ 加購森林風裝飾素材（如小松果、樹皮、苔蘚等）\n📸 打卡贈禮：現場打卡＋上傳社群，即可免費獲得一份森林系裝飾配件！\n\n🔸 註：裝飾物不可包含石頭類素材，避免損傷玻璃罩內部結構 \n \n\n📷 活動特色\n\n✔ 專業老師帶領，無需經驗\n✔ 每人一套材料，作品可帶回\n✔ 從生態導覽到標本藝術，一次體驗\n✔ 展示罐質感收藏，兼具教育與裝飾功能\n✔ 小班預約制，學習更有深度\n\n\n🔗 快來報名\n👉 名額有限，點選下方【立即報名】搶先體驗！
URL:https://deervalley.com.tw/event/specimen_of_beetles2510/
END:VEVENT
BEGIN:VEVENT
DTSTART;TZID=Asia/Shanghai:20250913T140000
DTEND;TZID=Asia/Shanghai:20250913T160000
DTSTAMP:20260422T064843
CREATED:20250730T104620Z
LAST-MODIFIED:20250730T110948Z
UID:2330-1757772000-1757779200@deervalley.com.tw
SUMMARY:茶點DIY教室 x 自助泡茶 09/13、20（六）
DESCRIPTION:
URL:https://deervalley.com.tw/event/wagashi0913/
LOCATION:鹿芝谷生態景觀園區\, 中正路二段377號\, 南投縣\, 558\, Taiwan
END:VEVENT
BEGIN:VEVENT
DTSTART;TZID=Asia/Shanghai:20250907T080000
DTEND;TZID=Asia/Shanghai:20250907T170000
DTSTAMP:20260422T064843
CREATED:20250907T025329Z
LAST-MODIFIED:20250915T023459Z
UID:2500-1757232000-1757264400@deervalley.com.tw
SUMMARY:甲蟲標本DIY（9月27日、9月28日）
DESCRIPTION:想親手製作一隻美麗又酷炫的獨角仙標本嗎？🪲 \n鹿芝谷昆蟲館全新推出「甲蟲標本製作小教室」！由專業老師帶領大小朋友認識台灣獨角仙的生態知識，再一步步親手操作標本製作流程，最後裝進森林系玻璃展示罐中，一起創造自然收藏的第一步！ \n課程設計結合美感與科學，不管是大人或孩子都能從觀察到動手，體驗一場「會留下來」的自然旅程。適合8歲以上親子、情侶、朋友參加，小班制預約開課，名額有限，立即報名！ \n \n \n🧭 活動資訊\n\n活動地點：鹿芝谷主場館2樓（成品領回：鹿芝谷昆蟲館）\n活動時間：114年09月27、28日 14:00\n活動時長：約1.5小時（含課程與實作）\n適合年齡：建議 8 歲以上（建議親子共學）\n梯次人數：每場次限6-10組，小班制教學\n課程內容：\n\n昆蟲身體結構介紹、認識台灣獨角仙的生態知識\n標本製作教學\n自由創作森林風造景\n標本烘乾時間（非操作流程一環）\n完成玻璃展示罐標本並帶回家\n\n\n\n \n📣 注意事項\n\n本活動為預約制，建議事先安排好時間，避免因時間不足中途離席。\n活動中包含使用針具與熱水操作，會有工作人員全程指導並提供安全說明。\n建議穿著方便操作的服裝，避免過於正式。\n因材料準備關係，如需取消請於活動三日前通知。\n活動完成可帶回一組標本作品。\n肖像權使用同意說明：活動過程中將拍攝照片、影音等活動紀錄，作為日後活動及教育推廣使用。凡報名參加者，須同意將影音、影像、著作及肖像權供主辦單位合理使用，同意者方具報名資格。\n\n\n✨ 加購與優惠項目\n\n✅ 可加價選擇其他甲蟲品種（現場提供選擇）\n✅ 加價製作第二隻標本（同場可完成兩隻作品於同一展示罐內）\n✅ 加購森林風裝飾素材（如小松果、樹皮、苔蘚等）\n📸 打卡贈禮：現場打卡＋上傳社群，即可免費獲得一份森林系裝飾配件！\n\n🔸 註：裝飾物不可包含石頭類素材，避免損傷玻璃罩內部結構 \n\n📷 活動特色\n\n✔ 專業老師帶領，無需經驗\n✔ 每人一套材料，作品可帶回\n✔ 從生態導覽到標本藝術，一次體驗\n✔ 展示罐質感收藏，兼具教育與裝飾功能\n✔ 小班預約制，學習更有深度\n\n\n🔗 快來報名\n👉 名額有限，點選下方【立即報名】搶先體驗！
URL:https://deervalley.com.tw/event/specimen_of_beetles01/
END:VEVENT
BEGIN:VEVENT
DTSTART;VALUE=DATE:20250816
DTEND;VALUE=DATE:20250818
DTSTAMP:20260422T064843
CREATED:20250714T083451Z
LAST-MODIFIED:20250813T091415Z
UID:2219-1755302400-1755475199@deervalley.com.tw
SUMMARY:🌟2025 鹿芝谷暑期限定活動｜奇幻城市集 × 萌獸闖關（延期）
DESCRIPTION:
URL:https://deervalley.com.tw/event/aug_markets_event1/
END:VEVENT
BEGIN:VEVENT
DTSTART;TZID=Asia/Shanghai:20250714T080000
DTEND;TZID=Asia/Shanghai:20250714T170000
DTSTAMP:20260422T064843
CREATED:20250714T105321Z
LAST-MODIFIED:20250813T091157Z
UID:2250-1752480000-1752512400@deervalley.com.tw
SUMMARY:🌟2025 鹿芝谷暑期限定活動｜奇幻城市集 × 萌獸拼豆DIY（延期）
DESCRIPTION:
URL:https://deervalley.com.tw/event/aug_markets_event2/
LOCATION:鹿芝谷生態景觀園區\, 中正路二段377號\, 南投縣\, 558\, Taiwan
END:VEVENT
END:VCALENDAR